Package: SCANVIS Version: 1.18.0 Command: /Library/Frameworks/R.framework/Resources/bin/R CMD INSTALL SCANVIS StartedAt: 2024-10-16 16:27:41 -0400 (Wed, 16 Oct 2024) EndedAt: 2024-10-16 16:28:19 -0400 (Wed, 16 Oct 2024) EllapsedTime: 38.0 seconds RetCode: 0 Status: OK