Package: SCANVIS Version: 1.18.0 Command: rm -rf SCANVIS.buildbin-libdir && mkdir SCANVIS.buildbin-libdir && /Users/biocbuild/BBS/utils/build-universal.sh SCANVIS_1.18.0.tar.gz /Library/Frameworks/R.framework/Resources/bin/R SCANVIS.buildbin-libdir StartedAt: 2024-10-15 20:06:28 -0400 (Tue, 15 Oct 2024) EndedAt: 2024-10-15 20:07:16 -0400 (Tue, 15 Oct 2024) EllapsedTime: 47.8 seconds RetCode: 0 Status: OK PackageFile: SCANVIS_1.18.0.tgz PackageFileSize: 429.9 KiB