Package: SCANVIS Version: 1.18.0 Maintainer: Phaedra Agius MaintainerEmail: pagius at nygenome.org git_url: https://git.bioconductor.org/packages/SCANVIS git_branch: RELEASE_3_19 git_last_commit: a87315a git_last_commit_date: 2024-04-30 11:15:58 -0400 (Tue, 30 Apr 2024)