Package: SCAN.UPC Version: 2.46.0 Command: /home/biocbuild/bbs-3.19-bioc/R/bin/R CMD build --keep-empty-dirs --no-resave-data SCAN.UPC StartedAt: 2024-10-16 20:37:06 -0400 (Wed, 16 Oct 2024) EndedAt: 2024-10-16 20:37:43 -0400 (Wed, 16 Oct 2024) EllapsedTime: 37.1 seconds RetCode: 0 Status: OK PackageFile: SCAN.UPC_2.46.0.tar.gz PackageFileSize: 555.6 KiB