Package: SCAN.UPC Version: 2.46.0 Command: /Library/Frameworks/R.framework/Resources/bin/R CMD INSTALL SCAN.UPC StartedAt: 2024-10-16 16:19:03 -0400 (Wed, 16 Oct 2024) EndedAt: 2024-10-16 16:20:20 -0400 (Wed, 16 Oct 2024) EllapsedTime: 77.1 seconds RetCode: 0 Status: OK