Package: SCAN.UPC Version: 2.46.0 Command: /Library/Frameworks/R.framework/Resources/bin/R CMD build --keep-empty-dirs --no-resave-data SCAN.UPC StartedAt: 2024-10-16 22:52:51 -0400 (Wed, 16 Oct 2024) EndedAt: 2024-10-16 22:54:27 -0400 (Wed, 16 Oct 2024) EllapsedTime: 96.3 seconds RetCode: 0 Status: OK PackageFile: SCAN.UPC_2.46.0.tar.gz PackageFileSize: 689.2 KiB