Package: SCAN.UPC Version: 2.46.0 Command: /home/biocbuild/R/R-beta-2024-04-15_r86425/bin/R CMD INSTALL SCAN.UPC StartedAt: 2024-05-08 20:48:56 -0000 (Wed, 08 May 2024) EndedAt: 2024-05-08 20:49:42 -0000 (Wed, 08 May 2024) EllapsedTime: 46.0 seconds RetCode: 0 Status: OK