Package: SCAN.UPC Version: 2.46.0 Command: /home/biocbuild/R/R-beta-2024-04-15_r86425/bin/R CMD build --keep-empty-dirs --no-resave-data SCAN.UPC StartedAt: 2024-05-09 03:17:25 -0000 (Thu, 09 May 2024) EndedAt: 2024-05-09 03:18:13 -0000 (Thu, 09 May 2024) EllapsedTime: 48.1 seconds RetCode: 0 Status: OK PackageFile: SCAN.UPC_2.46.0.tar.gz PackageFileSize: 683.2 KiB