Package: SCAN.UPC Version: 2.46.0 Command: rm -rf SCAN.UPC.buildbin-libdir && mkdir SCAN.UPC.buildbin-libdir && /Users/biocbuild/BBS/utils/build-universal.sh SCAN.UPC_2.46.0.tar.gz /Library/Frameworks/R.framework/Resources/bin/R SCAN.UPC.buildbin-libdir StartedAt: 2024-06-11 13:02:19 -0400 (Tue, 11 Jun 2024) EndedAt: 2024-06-11 13:03:31 -0400 (Tue, 11 Jun 2024) EllapsedTime: 71.9 seconds RetCode: 0 Status: OK PackageFile: SCAN.UPC_2.46.0.tgz PackageFileSize: 552.6 KiB