Package: SCAN.UPC Version: 2.46.0 Maintainer: Stephen R. Piccolo MaintainerEmail: stephen_piccolo at byu.edu git_url: https://git.bioconductor.org/packages/SCAN.UPC git_branch: RELEASE_3_19 git_last_commit: cd09a5d git_last_commit_date: 2024-04-30 10:29:04 -0400 (Tue, 30 Apr 2024)