Package: SC3 Version: 1.32.0 Command: rm -rf SC3.buildbin-libdir && mkdir SC3.buildbin-libdir && F:\biocbuild\bbs-3.19-bioc\R\bin\R.exe CMD INSTALL --build --library=SC3.buildbin-libdir SC3_1.32.0.tar.gz StartedAt: 2024-06-27 08:51:29 -0400 (Thu, 27 Jun 2024) EndedAt: 2024-06-27 08:52:40 -0400 (Thu, 27 Jun 2024) EllapsedTime: 71.0 seconds RetCode: 0 Status: OK PackageFile: SC3_1.32.0.zip PackageFileSize: 3.716 MiB