Package: SC3 Version: 1.32.0 Command: /Library/Frameworks/R.framework/Resources/bin/R CMD build --keep-empty-dirs --no-resave-data SC3 StartedAt: 2024-06-09 18:01:52 -0400 (Sun, 09 Jun 2024) EndedAt: 2024-06-09 18:09:35 -0400 (Sun, 09 Jun 2024) EllapsedTime: 462.7 seconds RetCode: 0 Status: OK PackageFile: SC3_1.32.0.tar.gz PackageFileSize: 3.384 MiB