Package: SC3 Version: 1.32.0 Command: /home/biocbuild/R/R-beta-2024-04-15_r86425/bin/R CMD build --keep-empty-dirs --no-resave-data SC3 StartedAt: 2024-05-09 03:16:42 -0000 (Thu, 09 May 2024) EndedAt: 2024-05-09 03:25:42 -0000 (Thu, 09 May 2024) EllapsedTime: 539.7 seconds RetCode: 0 Status: OK PackageFile: SC3_1.32.0.tar.gz PackageFileSize: 2.445 MiB