Package: SC3 Version: 1.32.0 Maintainer: Vladimir Kiselev MaintainerEmail: vladimir.yu.kiselev at gmail.com git_url: https://git.bioconductor.org/packages/SC3 git_branch: RELEASE_3_19 git_last_commit: 2fb1166 git_last_commit_date: 2024-04-30 10:47:40 -0400 (Tue, 30 Apr 2024)