Package: SBMLR Version: 2.0.0 Command: rm -rf SBMLR.buildbin-libdir && mkdir SBMLR.buildbin-libdir && E:\biocbuild\bbs-3.19-bioc\R\bin\R.exe CMD INSTALL --build --library=SBMLR.buildbin-libdir SBMLR_2.0.0.tar.gz StartedAt: 2024-10-17 08:33:51 -0400 (Thu, 17 Oct 2024) EndedAt: 2024-10-17 08:34:03 -0400 (Thu, 17 Oct 2024) EllapsedTime: 12.0 seconds RetCode: 0 Status: OK PackageFile: SBMLR_2.0.0.zip PackageFileSize: 231 KiB