Package: SBMLR Version: 2.0.0 Command: rm -rf SBMLR.buildbin-libdir && mkdir SBMLR.buildbin-libdir && /Users/biocbuild/BBS/utils/build-universal.sh SBMLR_2.0.0.tar.gz /Library/Frameworks/R.framework/Resources/bin/R SBMLR.buildbin-libdir StartedAt: 2024-10-17 17:05:39 -0400 (Thu, 17 Oct 2024) EndedAt: 2024-10-17 17:05:48 -0400 (Thu, 17 Oct 2024) EllapsedTime: 8.4 seconds RetCode: 0 Status: OK PackageFile: SBMLR_2.0.0.tgz PackageFileSize: 313.5 KiB