Package: SBMLR Version: 2.0.0 Command: rm -rf SBMLR.buildbin-libdir && mkdir SBMLR.buildbin-libdir && /Users/biocbuild/BBS/utils/build-universal.sh SBMLR_2.0.0.tar.gz /Library/Frameworks/R.framework/Resources/bin/R SBMLR.buildbin-libdir StartedAt: 2024-06-11 13:01:45 -0400 (Tue, 11 Jun 2024) EndedAt: 2024-06-11 13:01:55 -0400 (Tue, 11 Jun 2024) EllapsedTime: 9.6 seconds RetCode: 0 Status: OK PackageFile: SBMLR_2.0.0.tgz PackageFileSize: 313 KiB