Package: SBMLR Version: 2.0.0 Command: /Library/Frameworks/R.framework/Resources/bin/R CMD build --keep-empty-dirs --no-resave-data SBMLR StartedAt: 2024-10-17 08:16:48 -0400 (Thu, 17 Oct 2024) EndedAt: 2024-10-17 08:17:04 -0400 (Thu, 17 Oct 2024) EllapsedTime: 15.8 seconds RetCode: 0 Status: OK PackageFile: SBMLR_2.0.0.tar.gz PackageFileSize: 274.7 KiB