Package: SANTA Version: 2.39.2 Command: F:\biocbuild\bbs-3.19-bioc\R\bin\R.exe CMD check --no-multiarch --install=check:SANTA.install-out.txt --library=F:\biocbuild\bbs-3.19-bioc\R\library --no-vignettes --timings SANTA_2.39.2.tar.gz StartedAt: 2024-04-06 06:00:50 -0400 (Sat, 06 Apr 2024) EndedAt: 2024-04-06 06:02:08 -0400 (Sat, 06 Apr 2024) EllapsedTime: 78.2 seconds RetCode: 0 Status: OK CheckDir: SANTA.Rcheck Warnings: 0