Package: SANTA Version: 2.40.0 Command: chmod a+r SANTA -R && F:\biocbuild\bbs-3.19-bioc\R\bin\R.exe CMD build --keep-empty-dirs --no-resave-data SANTA StartedAt: 2024-06-26 21:37:17 -0400 (Wed, 26 Jun 2024) EndedAt: 2024-06-26 21:37:32 -0400 (Wed, 26 Jun 2024) EllapsedTime: 15.0 seconds RetCode: 1 Status: ERROR PackageFile: None PackageFileSize: NA