Package: SANTA Version: 2.39.2 Command: rm -rf SANTA.buildbin-libdir && mkdir SANTA.buildbin-libdir && F:\biocbuild\bbs-3.19-bioc\R\bin\R.exe CMD INSTALL --build --library=SANTA.buildbin-libdir SANTA_2.39.2.tar.gz StartedAt: 2024-04-06 09:07:27 -0400 (Sat, 06 Apr 2024) EndedAt: 2024-04-06 09:07:47 -0400 (Sat, 06 Apr 2024) EllapsedTime: 20.0 seconds RetCode: 0 Status: OK PackageFile: SANTA_2.39.2.zip PackageFileSize: 4.144 MiB