Package: SANTA Version: 2.39.2 Command: /Library/Frameworks/R.framework/Resources/bin/R CMD check --install=check:SANTA.install-out.txt --library=/Library/Frameworks/R.framework/Resources/library --no-vignettes --timings SANTA_2.39.2.tar.gz StartedAt: 2024-04-05 23:28:02 -0400 (Fri, 05 Apr 2024) EndedAt: 2024-04-05 23:29:20 -0400 (Fri, 05 Apr 2024) EllapsedTime: 78.8 seconds RetCode: 0 Status: OK CheckDir: SANTA.Rcheck Warnings: 0