Package: SANTA Version: 2.40.0 Command: /Library/Frameworks/R.framework/Resources/bin/R CMD build --keep-empty-dirs --no-resave-data SANTA StartedAt: 2024-06-09 18:01:26 -0400 (Sun, 09 Jun 2024) EndedAt: 2024-06-09 18:01:36 -0400 (Sun, 09 Jun 2024) EllapsedTime: 10.2 seconds RetCode: 1 Status: ERROR PackageFile: None PackageFileSize: NA