Package: SANTA Version: 2.39.2 Command: rm -rf SANTA.buildbin-libdir && mkdir SANTA.buildbin-libdir && /Users/biocbuild/BBS/utils/build-universal.sh SANTA_2.39.2.tar.gz /Library/Frameworks/R.framework/Resources/bin/R SANTA.buildbin-libdir StartedAt: 2024-04-06 01:25:07 -0400 (Sat, 06 Apr 2024) EndedAt: 2024-04-06 01:25:23 -0400 (Sat, 06 Apr 2024) EllapsedTime: 15.9 seconds RetCode: 0 Status: OK PackageFile: SANTA_2.39.2.tgz PackageFileSize: 4.133 MiB