Package: SAIGEgds Version: 2.4.1 Command: E:\biocbuild\bbs-3.19-bioc\R\bin\R.exe CMD INSTALL SAIGEgds StartedAt: 2024-10-16 17:09:14 -0400 (Wed, 16 Oct 2024) EndedAt: 2024-10-16 17:11:16 -0400 (Wed, 16 Oct 2024) EllapsedTime: 121.5 seconds RetCode: 0 Status: OK