Package: SAIGEgds Version: 2.4.1 Command: chmod a+r SAIGEgds -R && E:\biocbuild\bbs-3.19-bioc\R\bin\R.exe CMD build --keep-empty-dirs --no-resave-data SAIGEgds StartedAt: 2024-10-16 21:40:56 -0400 (Wed, 16 Oct 2024) EndedAt: 2024-10-16 21:43:12 -0400 (Wed, 16 Oct 2024) EllapsedTime: 135.8 seconds RetCode: 0 Status: OK PackageFile: SAIGEgds_2.4.1.tar.gz PackageFileSize: 1.858 MiB