Package: SAIGEgds Version: 2.4.1 Command: /home/biocbuild/bbs-3.19-bioc/R/bin/R CMD build --keep-empty-dirs --no-resave-data SAIGEgds StartedAt: 2024-10-16 20:35:50 -0400 (Wed, 16 Oct 2024) EndedAt: 2024-10-16 20:37:06 -0400 (Wed, 16 Oct 2024) EllapsedTime: 76.2 seconds RetCode: 0 Status: OK PackageFile: SAIGEgds_2.4.1.tar.gz PackageFileSize: 1.888 MiB