Package: SAIGEgds Version: 2.4.1 Command: /Library/Frameworks/R.framework/Resources/bin/R CMD check --install=check:SAIGEgds.install-out.txt --library=/Library/Frameworks/R.framework/Resources/library --no-vignettes --timings SAIGEgds_2.4.1.tar.gz StartedAt: 2024-10-17 12:22:00 -0400 (Thu, 17 Oct 2024) EndedAt: 2024-10-17 12:27:01 -0400 (Thu, 17 Oct 2024) EllapsedTime: 301.3 seconds RetCode: 0 Status: OK CheckDir: SAIGEgds.Rcheck Warnings: 0