Package: SAIGEgds Version: 2.4.1 Command: /Library/Frameworks/R.framework/Resources/bin/R CMD INSTALL SAIGEgds StartedAt: 2024-10-16 18:21:31 -0400 (Wed, 16 Oct 2024) EndedAt: 2024-10-16 18:22:24 -0400 (Wed, 16 Oct 2024) EllapsedTime: 52.6 seconds RetCode: 0 Status: OK