Package: SAIGEgds Version: 2.4.1 Maintainer: Xiuwen Zheng MaintainerEmail: xiuwen.zheng at abbvie.com git_url: https://git.bioconductor.org/packages/SAIGEgds git_branch: RELEASE_3_19 git_last_commit: 66326e6 git_last_commit_date: 2024-08-03 18:00:45 -0400 (Sat, 03 Aug 2024)