Package: S4Vectors Version: 0.42.1 Command: E:\biocbuild\bbs-3.19-bioc\R\bin\R.exe CMD check --no-multiarch --install=check:S4Vectors.install-out.txt --library=E:\biocbuild\bbs-3.19-bioc\R\library --no-vignettes --timings S4Vectors_0.42.1.tar.gz StartedAt: 2024-10-17 05:20:01 -0400 (Thu, 17 Oct 2024) EndedAt: 2024-10-17 05:22:11 -0400 (Thu, 17 Oct 2024) EllapsedTime: 129.6 seconds RetCode: 0 Status: WARNINGS CheckDir: S4Vectors.Rcheck Warnings: 3