Package: S4Vectors Version: 0.42.0 Command: rm -rf S4Vectors.buildbin-libdir && mkdir S4Vectors.buildbin-libdir && F:\biocbuild\bbs-3.19-bioc\R\bin\R.exe CMD INSTALL --build --library=S4Vectors.buildbin-libdir S4Vectors_0.42.0.tar.gz StartedAt: 2024-06-27 08:50:57 -0400 (Thu, 27 Jun 2024) EndedAt: 2024-06-27 08:52:08 -0400 (Thu, 27 Jun 2024) EllapsedTime: 71.2 seconds RetCode: 0 Status: OK PackageFile: S4Vectors_0.42.0.zip PackageFileSize: 2.28 MiB