Package: S4Vectors Version: 0.42.1 Command: /home/biocbuild/bbs-3.19-bioc/R/bin/R CMD INSTALL S4Vectors StartedAt: 2024-10-16 15:50:59 -0400 (Wed, 16 Oct 2024) EndedAt: 2024-10-16 15:51:22 -0400 (Wed, 16 Oct 2024) EllapsedTime: 23.0 seconds RetCode: 0 Status: OK