Package: S4Vectors Version: 0.42.1 Command: /home/biocbuild/bbs-3.19-bioc/R/bin/R CMD check --install=check:S4Vectors.install-out.txt --library=/home/biocbuild/bbs-3.19-bioc/R/site-library --timings S4Vectors_0.42.1.tar.gz StartedAt: 2024-10-17 04:39:30 -0400 (Thu, 17 Oct 2024) EndedAt: 2024-10-17 04:41:27 -0400 (Thu, 17 Oct 2024) EllapsedTime: 117.3 seconds RetCode: 0 Status: WARNINGS CheckDir: S4Vectors.Rcheck Warnings: 2