Package: S4Vectors Version: 0.42.1 Command: /home/biocbuild/bbs-3.19-bioc/R/bin/R CMD build --keep-empty-dirs --no-resave-data S4Vectors StartedAt: 2024-10-16 20:35:37 -0400 (Wed, 16 Oct 2024) EndedAt: 2024-10-16 20:36:28 -0400 (Wed, 16 Oct 2024) EllapsedTime: 51.1 seconds RetCode: 0 Status: OK PackageFile: S4Vectors_0.42.1.tar.gz PackageFileSize: 861.1 KiB