Package: S4Vectors Version: 0.42.1 Command: /Library/Frameworks/R.framework/Resources/bin/R CMD check --install=check:S4Vectors.install-out.txt --library=/Library/Frameworks/R.framework/Resources/library --no-vignettes --timings S4Vectors_0.42.1.tar.gz StartedAt: 2024-10-17 12:21:39 -0400 (Thu, 17 Oct 2024) EndedAt: 2024-10-17 12:25:32 -0400 (Thu, 17 Oct 2024) EllapsedTime: 233.0 seconds RetCode: 0 Status: WARNINGS CheckDir: S4Vectors.Rcheck Warnings: 2