Package: S4Vectors Version: 0.42.1 Command: /Library/Frameworks/R.framework/Resources/bin/R CMD build --keep-empty-dirs --no-resave-data S4Vectors StartedAt: 2024-10-16 22:50:27 -0400 (Wed, 16 Oct 2024) EndedAt: 2024-10-16 22:52:44 -0400 (Wed, 16 Oct 2024) EllapsedTime: 136.8 seconds RetCode: 0 Status: OK PackageFile: S4Vectors_0.42.1.tar.gz PackageFileSize: 1.001 MiB