Package: S4Vectors Version: 0.42.0 Command: /home/biocbuild/R/R-beta-2024-04-15_r86425/bin/R CMD check --install=check:S4Vectors.install-out.txt --library=/home/biocbuild/R/R-beta-2024-04-15_r86425/site-library --no-vignettes --timings S4Vectors_0.42.0.tar.gz StartedAt: 2024-05-09 11:30:04 -0000 (Thu, 09 May 2024) EndedAt: 2024-05-09 11:32:09 -0000 (Thu, 09 May 2024) EllapsedTime: 125.2 seconds RetCode: 0 Status: WARNINGS CheckDir: S4Vectors.Rcheck Warnings: 2