Package: S4Vectors Version: 0.42.0 Command: /Library/Frameworks/R.framework/Resources/bin/R CMD check --install=check:S4Vectors.install-out.txt --library=/Library/Frameworks/R.framework/Resources/library --no-vignettes --timings S4Vectors_0.42.0.tar.gz StartedAt: 2024-06-11 04:03:52 -0400 (Tue, 11 Jun 2024) EndedAt: 2024-06-11 04:06:30 -0400 (Tue, 11 Jun 2024) EllapsedTime: 157.5 seconds RetCode: 0 Status: WARNINGS CheckDir: S4Vectors.Rcheck Warnings: 2