Package: S4Vectors Version: 0.42.1 Maintainer: Hervé Pagès MaintainerEmail: hpages.on.github at gmail.com git_url: https://git.bioconductor.org/packages/S4Vectors git_branch: RELEASE_3_19 git_last_commit: cc0a6d7 git_last_commit_date: 2024-07-03 12:46:09 -0400 (Wed, 03 Jul 2024)