Package: S4Arrays Version: 1.4.1 Command: F:\biocbuild\bbs-3.19-bioc\R\bin\R.exe CMD check --no-multiarch --install=check:S4Arrays.install-out.txt --library=F:\biocbuild\bbs-3.19-bioc\R\library --no-vignettes --timings S4Arrays_1.4.1.tar.gz StartedAt: 2024-06-27 05:43:25 -0400 (Thu, 27 Jun 2024) EndedAt: 2024-06-27 05:46:03 -0400 (Thu, 27 Jun 2024) EllapsedTime: 157.1 seconds RetCode: 0 Status: OK CheckDir: S4Arrays.Rcheck Warnings: 0