Package: S4Arrays Version: 1.4.1 Command: /home/biocbuild/bbs-3.19-bioc/R/bin/R CMD check --install=check:S4Arrays.install-out.txt --library=/home/biocbuild/bbs-3.19-bioc/R/site-library --timings S4Arrays_1.4.1.tar.gz StartedAt: 2024-10-17 04:39:01 -0400 (Thu, 17 Oct 2024) EndedAt: 2024-10-17 04:41:03 -0400 (Thu, 17 Oct 2024) EllapsedTime: 122.3 seconds RetCode: 0 Status: OK CheckDir: S4Arrays.Rcheck Warnings: 0