Package: S4Arrays Version: 1.4.1 Command: /Library/Frameworks/R.framework/Resources/bin/R CMD INSTALL S4Arrays StartedAt: 2024-10-16 15:41:30 -0400 (Wed, 16 Oct 2024) EndedAt: 2024-10-16 15:41:49 -0400 (Wed, 16 Oct 2024) EllapsedTime: 18.4 seconds RetCode: 0 Status: OK