Package: S4Arrays Version: 1.4.1 Command: /Library/Frameworks/R.framework/Resources/bin/R CMD check --install=check:S4Arrays.install-out.txt --library=/Library/Frameworks/R.framework/Resources/library --no-vignettes --timings S4Arrays_1.4.1.tar.gz StartedAt: 2024-10-18 10:40:38 -0400 (Fri, 18 Oct 2024) EndedAt: 2024-10-18 10:42:53 -0400 (Fri, 18 Oct 2024) EllapsedTime: 135.3 seconds RetCode: 0 Status: OK CheckDir: S4Arrays.Rcheck Warnings: 0