Package: S4Arrays Version: 1.4.1 Command: /Library/Frameworks/R.framework/Resources/bin/R CMD build --keep-empty-dirs --no-resave-data S4Arrays StartedAt: 2024-10-17 08:10:43 -0400 (Thu, 17 Oct 2024) EndedAt: 2024-10-17 08:11:09 -0400 (Thu, 17 Oct 2024) EllapsedTime: 26.2 seconds RetCode: 0 Status: OK PackageFile: S4Arrays_1.4.1.tar.gz PackageFileSize: 275.7 KiB