Package: S4Arrays Version: 1.4.1 Command: rm -rf S4Arrays.buildbin-libdir && mkdir S4Arrays.buildbin-libdir && /Users/biocbuild/BBS/utils/build-universal.sh S4Arrays_1.4.1.tar.gz /Library/Frameworks/R.framework/Resources/bin/R S4Arrays.buildbin-libdir StartedAt: 2024-10-15 20:03:59 -0400 (Tue, 15 Oct 2024) EndedAt: 2024-10-15 20:04:23 -0400 (Tue, 15 Oct 2024) EllapsedTime: 24.2 seconds RetCode: 0 Status: OK PackageFile: S4Arrays_1.4.1.tgz PackageFileSize: 722.7 KiB