Package: Rvisdiff Version: 1.2.0 Command: /home/biocbuild/bbs-3.19-bioc/R/bin/R CMD INSTALL Rvisdiff StartedAt: 2024-10-16 15:53:32 -0400 (Wed, 16 Oct 2024) EndedAt: 2024-10-16 15:53:43 -0400 (Wed, 16 Oct 2024) EllapsedTime: 10.5 seconds RetCode: 0 Status: OK