Package: Rtreemix Version: 1.66.0 Command: E:\biocbuild\bbs-3.19-bioc\R\bin\R.exe CMD INSTALL Rtreemix StartedAt: 2024-10-16 16:44:00 -0400 (Wed, 16 Oct 2024) EndedAt: 2024-10-16 16:45:22 -0400 (Wed, 16 Oct 2024) EllapsedTime: 82.5 seconds RetCode: 0 Status: OK