Package: Rtreemix Version: 1.66.0 Command: /Library/Frameworks/R.framework/Resources/bin/R CMD INSTALL Rtreemix StartedAt: 2024-10-16 16:00:29 -0400 (Wed, 16 Oct 2024) EndedAt: 2024-10-16 16:02:29 -0400 (Wed, 16 Oct 2024) EllapsedTime: 119.7 seconds RetCode: 0 Status: OK