Package: Rtreemix Version: 1.66.0 Command: /Library/Frameworks/R.framework/Resources/bin/R CMD build --keep-empty-dirs --no-resave-data Rtreemix StartedAt: 2024-10-16 22:48:31 -0400 (Wed, 16 Oct 2024) EndedAt: 2024-10-16 22:51:04 -0400 (Wed, 16 Oct 2024) EllapsedTime: 152.3 seconds RetCode: 0 Status: OK PackageFile: Rtreemix_1.66.0.tar.gz PackageFileSize: 883.2 KiB